Workbook

Sheet 基礎ﾃﾞｰﾀ
A1: 運営指導年度初日
A2: 46113
A3: =DATE(YEAR($A$2)+B3,MONTH($A$2),DAY($A$2)) -> 45748 | B3: -1
A4: =DATE(YEAR($A$2)+B4,MONTH($A$2),DAY($A$2)) -> 45383 | B4: -2
A5: =DATE(YEAR($A$2)+B5,MONTH($A$2),DAY($A$2)) -> 45017 | B5: -3
A6: =DATE(YEAR($A$2)+B6,MONTH($A$2),DAY($A$2)) -> 44652 | B6: -4
A7: =DATE(YEAR($A$2)+B7,MONTH($A$2),DAY($A$2)) -> 44287 | B7: -5

Sheet 表紙
A2: 指定特定相談支援事業者・指定障害児相談支援事業者 運営指導等調書
W4: 運営指導予定日 | AK4: 自己点検表作成日 | BA4: ※運営指導の実施予定日及び自己点検表の作成日を入力してください。特に実施予定日は他のシートにも影響がありますので記入してください
A5: 事業者(法人)名称 | BA5: ※事業者の名称（正式名称）を記入してください
A6: 事業所名称等 | I6: 指定特定相談支援事業 | V6: 指定の有無 | AD6: 指定障害児相談支援事業 | AQ6: 指定の有無 | BA6: ※「指定の有無」には、それぞれの事業を指定されているか記入してください
I7: 事業所番号 | M7: 事業所名称 | Z7: 指定満了日 | AD7: 事業所番号 | AH7: 事業所名称 | AU7: 指定満了日 | BA7: ※指定事業所の事業所番号及び事業所名称（指定された名称）、指定満了日を記入してください
BA8: 「指定の有無」が「無し」場合は、名称等の記入は不要です
A9: 調書作成者 | I9: 作成者職・氏名 | AD9: 連絡先(電話・eﾒｰﾙ) | BA9: ※調書を作成したご担当者の職、氏名、電話番号、電子ﾒｰﾙｱﾄﾞﾚｽを記入してください
I10: 職名 | S10: 氏名 | AD10: 電話 | AN10: eﾒｰﾙ | BA10: 電話やﾒｰﾙｱﾄﾞﾚｽは問い合わせ等に使用しますので、対応可能なものを記入してください
A12: 【調書作成上の注意】
A13: １ 基本的事項 この調書は、指定事業所における基準等を満たしているかなどを確認するものです。 薄黄色のセルについてご記入等をお願いします。特に指定のない限りは、運営指導予定月の前々月の状況で作成してください。 記入欄中、青字については、他の記入を参照して自動的に表示しています。「0」やエラー値である場合は、未入力箇所がある場合がありますのでご注意ください。 同じ内容をお聞きしている箇所もありますが、ご容赦ください。 ２ 運営指導自己点検表について これは、指定基準や報酬算定基準をまとめた、国が示している標準的な点検表です。 確認項目をご確認いただき、「確認結果」欄から当てはまるものを選んでください。 ３ 運営指導事前調書について この事前調書は、事業所の概要等についてお聞きするものです。作成にご協力ください。 ４ 業務管理体制整備に関する一般検査自己点検表 この点検表は、業務管理体制の整備に関する自己点検表です。 障害者総合支援法第51条の31第2項第2号、児童福祉法第24条の38第2項第2号に該当する場合は市町村に「業務管理体制の整備に関する届出」をする必要がありますが、この各号に該当する場合に作成してください。 ５ 添付資料について 運営指導等調書には、お手数ですが、次の資料を添付してください。（データでの提出をお願いします） ①運営規程、②重要事項説明書及びその同意書(書式)、③契約書(書式)、④事業所平面図、⑤パンフレット(作成している場合、提出してください) ６ 提出について このファイルを提出する際は、ファイル名末尾の「事業所名称」を当該事業所名称(分かるようにしてあれば略称等でも構いません)に変更して提出してください。

Sheet 運営指導_自己点検表
A1: 指定計画相談支援・指定障害児相談支援 運営指導自己点検表 | N1: 【島根県大田市】
N2: ※指定を受けている事業について確認事項をご確認いただき、その結果を「確認結果」から選択してください
A3: 指定計画相談支援【障害者総合支援法】 | H3: 指定障害児相談支援【児童福祉法】
A4: 確認項目 | D4: 確認事項 | E4: 根拠法令 | F4: 確認 結果 | G4: 確認書類 | H4: 確認項目 | K4: 確認事項 | L4: 根拠法令 | M4: 確認 結果 | N4: 確認書類
A5: 第１ 基本方針（法第51条の24） | H5: 第１ 基本方針（法第24条の31）
B6: (1) 利用者又は障害児の保護者(利用者等)の意思及び人格を尊重し、常に当該利用者等の立場に立って行われているか。 | E6: 平24厚令28第2条第1項 | F6: (選択) | G6: ○運営規程 ○サービス等利用計画 ○ケース記録 | I6: (1) 障害児又は障害児の保護者(障害児等)の意思及び人格を尊重し、常に当該障害児等の立場に立って行われているか。 | L6: 平24厚令29第2条第1項 | M6: (選択) | N6: ○運営規程 ○障害児支援利用計画 ○ケース記録
B7: (2) 利用者等が自立した日常生活又は社会生活を営むことができるように配慮して行われているか。 | E7: 平24厚令28第2条第2項 | F7: (選択) | G7: ○運営規程 ○サービス等利用計画 ○ケース記録 | I7: (2) 障害児等が自立した日常生活又は社会生活を営むことができるように配慮して行われているか。 | L7: 平24厚令29第2条第2項 | M7: (選択) | N7: ○運営規程 ○障害児支援利用計画 ○ケース記録
B8: (3) 利用者等の心身の状況、その置かれている環境等に応じて、利用者等の選択に基づき、適切な保健、医療、福祉、就労支援、教育等のサービス(福祉サービス等)が多様な事業者から総合的かつ効率的に提供されるよう配慮して行われているか。 | E8: 平24厚令28第2条第3項 | F8: (選択) | G8: ○運営規程 ○サービス等利用計画 ○ケース記録 | I8: (3) 障害児の心身の状況、その置かれている環境等に応じて、障害児等の選択に基づき、適切な保健、医療、福祉、就労支援、教育等のサービス(福祉サービス等)が多様な事業者から総合的かつ効率的に提供されるよう配慮して行われているか。 | L8: 平24厚令29第2条第3項 | M8: (選択) | N8: ○運営規程 ○障害児支援利用計画 ○ケース記録
B9: (4) 利用者等に提供される福祉サービス等が特定の種類又は特定の障害福祉サービス事業を行う者に不当に偏ることのないよう、公正中立に行われているか。 | E9: 平24厚令28第2条第4項 | F9: (選択) | G9: ○運営規程 ○サービス等利用計画 ○ケース記録 | I9: (4) 当該障害児等に提供される福祉サービス等が特定の種類又は特定の障害児通所支援事業を行う者に不当に偏ることのないよう、公正中立に行われているか。 | L9: 平24厚令29第2条第4項 | M9: (選択) | N9: ○運営規程 ○障害児支援利用計画 ○ケース記録
B10: (5) 市町村、障害福祉サービス事業を行う者、介護保険法に規定する指定居宅介護支援事業者、指定介護予防支援事業者その他の関係者との連携を図り、地域において必要な社会資源の改善及び開発に努めているか。 | E10: 平24厚令28第2条第5項 | F10: (選択) | G10: ○関係者と連携を図って必要な社会資源を活用して支援していることが分かる書類(ケース記録等) | I10: (5) 市町村、障害児通所支援事業を行う者等との連携を図り、地域において必要な社会資源の改善及び開発に努めているか。 | L10: 平24厚令29第2条第5項 | M10: (選択) | N10: ○関係者と連携を図って必要な社会資源を活用して支援していることが分かる書類(ケース記録等)
B11: (6) 利用者が指定計画相談支援を利用することにより、地域の教育、就労等の支援を受けることができるようにすることで、障害の有無にかかわらず、全ての者が共生することができるよう、地域社会への参加や包摂の推進に努めるとともに、利用者の自己決定の尊重及び意思決定の支援に配慮しつつ、利用者の希望を踏まえて障害者支援施設、精神科病院等から地域生活への移行の推進に努めているか。 | E11: 平24厚令28第2条第6項 | F11: (選択) | G11: ○自己評価 ○資料自己評価結果を改善に繋げていることが分かる記録 | I11: (6) 障害児が指定障害児相談支援を利用することにより、地域の保育、教育等の支援を受けることができるようにすることで、障害の有無にかかわらず、全ての児童が共に成長できるよう、障害児の地域社会への参加や包摂(インクルージョン)の推進に努めているか。 | L11: 平24厚令29第2条第6項 | M11: (選択) | N11: ○自己評価資料 ○自己評価結果を改善に繋げていることが分かる記録
B12: (7) 自らその提供する指定計画相談支援の評価を行い、常にその改善を図っているか。 | E12: 平24厚令28第2条第7項 | F12: (選択) | G12: ○運営規程 ○研修計画、研修実施記録 | I12: (7) 自らその提供する指定障害児相談支援の評価を行い、常にその改善を図っているか。 | L12: 平24厚令29第2条第7項 | M12: (選択) | N12: ○運営規程 ○研修計画、研修実施記録
B13: (8) 利用者の人権の擁護、虐待の防止等のため、必要な体制の整備を行うとともに、その従業者に対し、研修を実施する等の措置を講じているか。 | E13: 平24厚令28第2条第8項 | F13: (選択) | G13: ○虐待防止関係書類体制の整備をしていることが分かる書類 | I13: (8) 当該事業所を利用する障害児の人権の擁護、虐待の防止等のため、必要な体制の整備を行うとともに、その従業者に対し、研修を実施する等の措置を講じているか。 | L13: 平24厚令29第2条第8項 | M13: (選択) | N13: ○虐待防止関係書類体制の整備をしていることが分かる書類
B14: (9) 指定計画相談支援の提供の終了に際しては、利用者又はその家族に対して適切な援助を行うとともに、福祉サービス等を提供する者との密接な連携に努めているか。 | E14: 平24厚令28第2条第9項 | F14: (選択) | G14: ○適正な援助をしたことが分かる書類、福祉サービス等の提供者との連携したことが分かる書類 | I14: (9) 指定障害児相談支援の提供の終了に際しては、利用者又はその家族に対して適切な援助を行うとともに、福祉サービス等を提供する者との密接な連携に努めているか。 | L14: 平24厚令29第2条第9項 | M14: (選択) | N14: ○適正な援助をしたことが分かる書類、福祉サービス等の提供者との連携したことが分かる書類
A15: 第２ 人員に関する基準（法第51条の24第1項） | H15: 第２ 人員に関する基準（法第4条の31第1項）
B16: １ 従業者★ | I16: １ 従業者
C17: (1) 事業所ごとに専らその職務に従事する相談支援専門員(指定計画相談支援の提供に当たる者として平24厚告227の規定に定めるもの)を置いているか。(ただし、指定計画相談支援の業務に支障がない場合は、当該事業所の他の職務に従事させ、又は他の事業所、施設等の職務に従事させることができるものとする。) | E17: 平24厚令28第3条第1項 平24厚告227 | F17: (選択) | G17: ○勤務実績表 ○出勤簿(タイムカード) ○従業員の資格証 ○勤務体制一覧表 ○研修修了書 | J17: (1) 事業所ごとに専らその職務に従事する相談支援専門員(指定障害児相談支援の提供に当たる者として平24厚告225の規定に定めるもの)を置いているか。(ただし、指定障害児相談支援の業務に支障がない場合は、当該事業所の他の職務に従事させ、又は他の事業所、施設等の職務に従事させることができるものとする。) | L17: 平24厚令29第3条第1項 平24厚告225 | M17: (選択) | N17: ○勤務実績表 ○出勤簿(タイムカード) ○従業員の資格証 ○勤務体制一覧表 ○研修修了書
C18: (2) (1)に規定する相談支援専門員の員数の標準は、利用者の数(当該事業者が、指定障害児相談支援事業者の指定を併せて受け、かつ、指定計画相談支援の事業と指定障害児相談支援の事業とを同一の事業所において一体的に運営している場合にあっては、当該事業所において一体的に運営している指定計画相談支援の事業における利用者の数及び指定障害児相談支援の事業における障害児の保護者の数の合計数)が３５又はその端数を増すごとに１となっているか。 | E18: 平24厚令28第3条第2項 | F18: (選択) | G18: ○勤務実績表 ○出勤簿(タイムカード) ○従業員の資格証 ○勤務体制一覧表 ○利用者の数が分かる書類 | J18: (2) (1)に規定する相談支援専門員の員数の標準は、障害児の保護者の数(当該事業者が、指定特定相談支援事業者の指定を併せて受け、かつ、当該事業と指定計画相談支援の事業とを同一の事業所において一体的に運営している場合にあっては、当該事業所において一体的に運営している当該事業における障害児の保護者の数及び指定特定相談支援の事業における利用者の数の合計数)が３５又はその端数を増すごとに１となっているか。 | L18: 平24厚令29第3条第2項 | M18: (選択) | N18: ○勤務実績表 ○出勤簿(タイムカード) ○従業員の資格証 ○勤務体制一覧表 ○障害児相談支援対象保護者の数が分かる書類
C19: (3) (2)に規定する利用者の数は、前６箇月の平均値となっているか。ただし、新規に指定を受ける場合は、適切な推定数となっているか。 | E19: 平24厚令28第3条第3項 | F19: (選択) | G19: ○勤務実績表 ○出勤簿(タイムカード) ○従業員の資格証 ○勤務体制一覧表 ○利用者の数が分かる書類 | J19: (3) (2)に規定する障害児の保護者の数は、前６箇月の平均値となっているか。ただし、新規に指定を受ける場合は、推定数となっているか。 | L19: 平24厚令29第3条第3項 | M19: (選択) | N19: ○勤務実績表 ○出勤簿(タイムカード) ○従業員の資格証 ○勤務体制一覧表 ○障害児相談支援対象保護者の数が分かる書類
J20: (4) 次に掲げる①②の要件をいずれも満たす場合には、指定障害児相談支援事業所に相談支援員(専ら当該指定障害児相談支援事業所の職務に従事する者であって社会福祉士又は精神保健福祉士の資格を有するもの。)を置くことができる。この場合において、当該相談支援員を、指定地域相談支援若しくは指定計画相談支援の事業を行う事業所又は指定自立生活援助の事業を行う事業所の職務その他これに類する職務に従事させることができるものとする。 | L20: 平24厚令29第3条第4項 | M20: － | N20: ○勤務実績表 ○出勤簿(タイムカード) ○従業員の資格証 ○勤務体制一覧表
K21: ① 当該事業所が平27厚告181第一号イからニまでに掲げる基準のいずれかに適合しているか。 | M21: (選択)
K22: ② 平30厚告116の規定に該当する者(当該事業所の相談支援専門員として職務に従事する者に限る。)により相談支援員に対して指導及び助言が行われる体制が確保されているか。 | M22: (選択)
J23: (5) (4)の規定により相談支援員を置く場合における7、11の(1)①、(2)①から⑧、(3)、11の2、14、16の(1)から(3)まで、20の(1)(指定基準第20条第1項に係る部分に限る。)並びに23の(1)及び(2)の規定の適用については、これらの規定中「相談支援専門員」とあるのは「相談支援専門員又は相談支援員」と読み替えるものとする。 | L23: 平24厚令29第3条第5項 | M23: (選択) | N23: ○勤務実績表 ○出勤簿(タイムカード) ○従業員の資格証 ○勤務体制一覧表
B24: ２ 管理者★ | I24: ２ 管理者
C25: 事業所ごとに専らその職務に従事する管理者を置いているか。(ただし、事業所の管理上支障がない場合は、当該事業所の他の職務に従事させ、又は他の事業所、施設等の職務に従事させることができるものとする。) | E25: 平24厚令28第4条 | F25: (選択) | G25: ○管理者の雇用形態が分かる書類 ○勤務実績表 ○出勤簿(タイムカード) ○従業員の資格証 ○勤務体制一覧表 | J25: 事業所ごとに専らその職務に従事する管理者を置いているか。(ただし、事業所の管理上支障がない場合は、当該事業所の他の職務に従事させ、又は他の事業所、施設等の職務に従事させることができるものとする。) | L25: 平24厚令29第4条 | M25: (選択) | N25: ○管理者の雇用形態が分かる書類 ○勤務実績表 ○出勤簿(タイムカード) ○従業員の資格証 ○勤務体制一覧表
B26: ３ 従たる事業所を設置する場合における特例 | I26: ３ 従たる事業所を設置する場合における特例
C27: 事業所における主たる事業所と一体的に管理運営を行う事業所(従たる事業所)を設置している場合においては、主たる事業所及び従たる事業所のうちそれぞれ一人以上は、専ら当該主たる事業所又は従たる事業所の職務に従事する相談支援専門員が配置されているか。 | E27: 平24厚令28第4条の2第1項、第2項 | F27: (選択) | G27: ○事業所一覧 ○各事業所の従業者名簿、相談支援専門員であることが分かる書類 | J27: 事業所における主たる事業所と一体的に管理運営を行う事業所(従たる事業所)を設置している場合においては、主たる事業所及び従たる事業所のうちそれぞれ一人以上は、専ら当該主たる事業所又は従たる事業所の職務に従事する相談支援専門員が配置されているか。 | L27: 平24厚令29第4条の2第1項、第2項 | M27: (選択) | N27: ○事業所一覧 ○各事業所の従業者名簿、相談支援専門員であることが分かる書類
A28: 第３ 運営に関する基準（法第51条の24第2項） | H28: 第３ 運営に関する基準（法第24条の31第2項）
B29: １ 内容及び手続の説明及び同意★ | I29: １ 内容及び手続の説明及び同意
C30: (1) 指定計画相談支援の利用申込があったときは、当該利用申込を行った利用者(利用申込者)に係る障害の特性に応じた適切な配慮をしつつ、当該利用申込者に対し、運営規程の概要その他の利用申込者のサービスの選択に資すると認められる重要事項を記した文書を交付して説明を行い、当該指定計画相談支援の提供の開始について当該利用申込者の同意を得ているか。 | E30: 平24厚令28第5条第1項 | F30: (選択) | G30: ○重要事項説明書 ○利用契約書 | J30: (1) 指定障害児相談支援の利用申込があったときは、当該利用申込みを行った障害児の保護者(利用申込者)に係る障害児の障害の特性に応じた適切な配慮をしつつ、当該利用申込者に対し、運営規程の概要その他の利用申込者のサービスの選択に資すると認められる重要事項を記した文書を交付して説明を行い、当該指定障害児相談支援の提供の開始について当該利用申込者の同意を得ているか。 | L30: 平24厚令29第5条第1項 | M30: (選択) | N30: ○重要事項説明書 ○利用契約書
C31: (2) 社会福祉法第77条の規定に基づき書面の交付を行う場合は、利用者の障害の特性に応じた適切な配慮をしているか。 | E31: 平24厚令28第5条第2項 | F31: (選択) | G31: ○重要事項説明書 ○利用契約書その他利用者に交付した書面 | J31: (2) 社会福祉法第77条の規定に基づき書面の交付を行う場合は、利用申込者に係る障害児の障害の特性に応じた適切な配慮をしているか。 | L31: 平24厚令29第5条第2項 | M31: (選択) | N31: ○重要事項説明書 ○利用契約書その他利用者に交付した書面
B32: ２ 契約内容の報告等 | I32: ２ 契約内容の報告等
C33: (1) 指定計画相談支援の利用に係る契約をしたときは、その旨を市町村に対し遅滞なく報告しているか。 | E33: 平24厚令28第6条第1項 | F33: (選択) | G33: ○契約内容報告書 | J33: (1) 指定障害児相談支援の利用に係る契約をしたときは、その旨を市町村に対し遅滞なく報告しているか。 | L33: 平24厚令29第6条第1項 | M33: (選択) | N33: ○契約内容報告書
C34: (2) サービス等利用計画を作成したときは、その写しを市町村に対し遅滞なく提出しているか。 | E34: 平24厚令28第6条第2項 | F34: (選択) | G34: ○市町村に提出したことが分かる書類(控え等) | J34: (2) 障害児支援利用計画を作成したときは、その写しを市町村に対し遅滞なく提出しているか。 | L34: 平24厚令29第6条第2項 | M34: (選択) | N34: ○市町村に提出したことが分かる書類(控え等)
B35: ３ 提供拒否の禁止 | I35: ３ 提供拒否の禁止
C36: 正当な理由がなく、指定計画相談支援の提供を拒んでいないか。 | E36: 平24厚令28第7条 | F36: (選択) | G36: ○適宜必要と認める資料 | J36: 正当な理由がなく、指定障害児相談支援の提供を拒んでいないか。 | L36: 平24厚令29第7条 | M36: (選択) | N36: ○適宜必要と認める資料
B37: ４ サービス提供困難時の対応 | I37: ４ サービス提供困難時の対応
C38: 事業所の通常の事業の実施地域等を勘案し、利用申込者に対し自ら適切な指定計画相談支援を提供することが困難であると認めた場合は、適当な他の指定特定相談支援事業者の紹介その他の必要な措置を速やかに講じているか。 | E38: 平24厚令28第8条 | F38: (選択) | G38: ○適宜必要と認める資料 | J38: 事業所の通常の事業の実施地域等を勘案し、利用申込者及び利用申込者に係る障害児に対し自ら適切な指定障害児相談支援を提供することが困難であると認めた場合は、適当な他の指定障害児相談支援事業者の紹介その他の必要な措置を速やかに講じているか。 | L38: 平24厚令29第8条 | M38: (選択) | N38: ○適宜必要と認める資料
B39: ５ 受給資格の確認★ | I39: ５ 受給資格の確認
C40: 指定計画相談支援の提供を求められた場合は、その者の提示する受給者証又は地域相談支援受給者証によって、計画相談支援給付費の支給対象者であること、法第5条第23項に規定する厚生労働省令で定める期間(モニタリング期間)、支給決定又は地域相談支援給付決定の有無、支給決定の有効期間又は地域相談支援給付決定の有効期間、支給量又は地域相談支援給付量等を確かめているか。 | E40: 平24厚令28第9条 | F40: (選択) | G40: ○受給者証の写し | J40: 指定障害児談支援の提供を求められた場合は、その者の提示する通所受給者証によって、障害児相談支援給付費の支給対象者であること、法第6条の2の2第8項に規定する規則で定める期間(モニタリング期間)、通所給付決定の有無、通所給付決定の有効期間、支給量等を確かめているか。 | L40: 平24厚令29第9条 規則第1条の2の7 | M40: (選択) | N40: ○受給者証の写し
...

Sheet 運営指導_事前調書
A1: 指定計画相談支援・指定障害児相談支援 運営指導事前調書
A2: １ 開設者・事業所の概要
A3: 開設者の概要 | I3: 法人名称 | AD3: 主たる事務所の所在地 | AY3: 代表者の職及び氏名
I4: =表紙!I5 -> 0 | AY4: 職名 | BI4: 氏名
A5: 事業所の概要 | C5: 項目 | I5: 特定相談支援 | AD5: 障害児相談支援 | AY5: 他に指定を受けている障害福祉サービス、障害児通所支援
C6: 事業所名称
C7: 事業所所在地
C8: 指定年月日
C9: (直近の更新年月日)
C10: 主たる障害種別 | I10: □ | J10: 身体障害 | N10: □ | O10: 知的障害 | S10: □ | T10: 精神障害 | X10: □ | Y10: その他障害 | AD10: □ | AE10: 身体障害 | AI10: □ | AJ10: 知的障害 | AN10: □ | AO10: 精神障害 | AS10: □ | AT10: その他障害 | AY10: 他に指定を受けている介護保険法に基づく事業
C11: 通常の実施地域
C12: 営業日等 | I12: 日 | K12: 月 | M12: 火 | O12: 水 | Q12: 木 | S12: 金 | U12: 土 | W12: 祝日 | Y12: その他の休業日 | AD12: 日 | AF12: 月 | AH12: 火 | AJ12: 水 | AL12: 木 | AN12: 金 | AP12: 土 | AR12: 祝日 | AT12: その他の休業日
D13: 営業日
D14: 営業時間 | I14: 平日 | M14: ～ | P14: 土曜 | T14: ～ | W14: 日･祝 | AA14: ～ | AD14: 平日 | AH14: ～ | AK14: 土曜 | AO14: ～ | AR14: 日･祝 | AV14: ～
A16: ２ 利用状況（給付費の請求及び利用契約者数）
H17: 前年度 | AN17: 今年度（把握できる直近提供月まで）
H18: 特定相談支援 | X18: 障害児相談支援 | AN18: 特定相談支援 | BD18: 障害児相談支援
H19: サービス利用支援 | P19: 継続サービス利用支援 | X19: 障害児支援利用援助 | AF19: 継続障害児支援利用援助 | AN19: サービス利用支援 | AV19: 継続サービス利用支援 | BD19: 障害児支援利用援助 | BL19: 継続障害児支援利用援助
H20: 請求件数 | K20: 請求金額 | P20: 請求件数 | S20: 請求金額 | X20: 請求件数 | AA20: 請求金額 | AF20: 請求件数 | AI20: 請求金額 | AN20: 請求件数 | AQ20: 請求金額 | AV20: 請求件数 | AY20: 請求金額 | BD20: 請求件数 | BG20: 請求金額 | BL20: 請求件数 | BO20: 請求金額
A21: サービス提供月 | C21: ４月
C22: ５月
C23: ６月
C24: ７月
C25: ８月
C26: ９月
C27: １０月
C28: １１月
C29: １２月
C30: １月
C31: ２月
C32: ３月
A33: 直近の契約者数 | H33: 障害者 | O33: 人 | P33: =TEXT(EOMONTH(表紙!AD4,-2),"（ggge年m月末時点）") -> #NUM! | X33: 障害児 | AE33: 人 | AF33: =TEXT(EOMONTH(表紙!AD4,-2),"（ggge年m月末時点）") -> #NUM!
A35: ３ 従業者の状況
A36: (1)従業者の資格及び勤務状況等 | BN36: 実績年月 | BO36: =EOMONTH(表紙!AD4,-2) -> #NUM!
A37: 従業者 | M37: 勤務形態 | U37: 相談支援従事者研修 | AC37: その他の資格 | AT37: 兼務先事業所及びその職種 | BO37: 備考
A38: 職種 | G38: 氏名 | M38: 常勤･非常勤 | Q38: 専従･兼務 | U38: 初任者研修 | Y38: 現任研修
A49: ※１当該事業所に従事する全従業者について、管理者、相談支援専門員、相談支援員、その他の従業者の順に記入してください
A50: ２ 「相談支援従事者研修」は、初任者研修、現任研修(直近)の修了年月日を記入してください
A51: ３ 「専従・兼務」は、当該事業所のみに従事する場合は「専従」、当該事業所のほか他の事業所等に従事する場合は「兼務」としてください
A53: (2)従業者の勤務実績 | BN53: 実績年月 | BO53: =EOMONTH(表紙!AD4,-3)+1 -> #NUM!
...

Sheet 業務管理体制一般検査_自己点検表
A1: 業務管理体制の整備に関する一般検査自己点検表
F2: 【島根県大田市】
A8: チェック項目 | E8: 確認 結果 | F8: 備考
A9: １ 方針策定
B10: (1)法令遵守責任者を選任し届け出ていますか(法の区分ごとに、業務管理体制の整備に関する届出をしていますか)。 | F10: 障害者総合支援法第51条の31第2項第2号(指定特定相談支援)、児童福祉法第24条の38第2項第2号(指定障害児相談)に該当する場合は市町村に届け出る必要があります。届出されていない場合は速やかに届出をお願いします。
C11: ①障害者総合支援法第51条の31〔届出書を確認します〕 | E11: (選択)
D12: 届出日 ：〇年〇月〇日、職名：〇〇、氏名：〇〇 ××
C13: ②児童福祉法第24条の38〔届出書を確認します〕 | E13: (選択)
D14: 届出日 ：〇年〇月〇日、職名：〇〇、氏名：〇〇 ××
B15: (2)法令遵守について方針を定めていますか。 | E15: (選択) | F15: 定めている場合、その名称や定めた年月日をご記入ください
D16: 方針名等：〇〇(〇年〇月〇日策定)
B17: (3)法令遵守について定めた方針を職員に周知していますか。 | E17: (選択)
D18: 周知方法：（記入例「社内報による周知」）
A19: ２ 内部規定・組織体制の整備
B20: (1)法令遵守責任者の役割や業務内容を定めていますか。 | E20: (選択) | F20: 定めている場合、その名称や定めた年月日をご記入ください
D21: 定めの名称：〇〇(〇年〇月〇日策定)
B22: (2)選任された法令遵守責任者を職員に周知していますか。 | E22: (選択)
D23: 周知方法 ：（記入例「社内報による周知」）
B24: (3)事業所が提供しているサービスの実施内容について、法令に基づき適正に提供されていることを確認していますか。(確認内容の例：人員配置基準を満たしているか、定員は遵守されているか、設備基準は確保されているか、必要な計画・記録は作成されているか など) | E24: (選択)
B25: (4)各事業所に、毎日従業者の人員を確認させ、定期的に報告を求める等をして、人員を確保していますか。 | E25: (選択)
B26: (5)各事業所の人員が不足したとき又は不足するおそれのあるときは、人員について権限のある部署に報告させ、人員を確保していますか。 | E26: (選択)
B27: (6)各事業所に、毎日利用者数を確認させ、定期的に報告を求める等をして、届け出られた定員を超えないように管理していますか。 | E27: (選択)
B28: (7)各事業所の設備基準の遵守について、常に管理していますか。 | E28: (選択)
B29: (8)虐待防止及び身体拘束抑制について、従業者に周知し、研修等を行っていますか。
C30: ①周知 | E30: (選択)
D31: 周知方法：（記入例「社内報による周知」）
C32: ②研修 | E32: (選択) | F32: 研修については、直近年度の実施回数や実施日をご記入ください
D33: 研修実績：〇年度実績 〇回(〇/〇、×/×など、実施年月日を記入してください)
B34: (9)介護給付費等の請求について、法令に基づき適正な請求であるか確認をしていますか。 | E34: (選択)
B35: (10)内部通報や事故報告があった場合、原因を把握し、改善を図るなどの対策がとられていますか。 | E35: (選択)
B36: (11)利用者から相談や苦情があった場合、法令等に違反すると思われる事項について法令遵守責任者に報告し、対策がとられていますか。 | E36: (選択)
B37: (12)法令等の遵守について、研修を行っていますか。 | E37: (選択) | F37: 研修の実施状況をご記入ください
D38: 実施状況：(記入例「外部研修『〇〇』(〇/〇受講)を受講し、後に法人内部での伝達研修を実施(×/×実施))
B39: (13)行政や関係団体から関連情報を収集し、事業所（職員）へ周知していますか。また、適宜、既存資料の内容の改定を行っていますか。 | E39: (選択)
A40: ３ 運用状況の評価・改善活動の状況
B41: (1)経営者が、法令等遵守の実施状況を把握・分析し、問題点があればその原因を検証していますか。 | E41: (選択)
B42: (2)経営者が、３(1)の検証結果に基づき、改善計画を策定し改善を実施していますか。 | E42: (選択)
A43: ４ 法令遵守規程（届出事業所数20以上のみ記入）
B44: (1)法令遵守規程（マニュアル）を作成していますか。 | E44: (選択) | F44: ４については、業務管理体制の整備に関する届出に係る届事業所数が20未満の事業者は記載不要です
D45: 規程等名称：〇〇(〇年〇月〇日作成)
...
